BEGIN:VCALENDAR
VERSION:2.0
PRODID:-//Captain Rollo&#039;s - ECPv6.15.20//NONSGML v1.0//EN
CALSCALE:GREGORIAN
METHOD:PUBLISH
X-WR-CALNAME:Captain Rollo&#039;s
X-ORIGINAL-URL:https://captainrollos.org
X-WR-CALDESC:Events for Captain Rollo&#039;s
REFRESH-INTERVAL;VALUE=DURATION:PT1H
X-Robots-Tag:noindex
X-PUBLISHED-TTL:PT1H
BEGIN:VTIMEZONE
TZID:America/Los_Angeles
BEGIN:DAYLIGHT
TZOFFSETFROM:-0800
TZOFFSETTO:-0700
TZNAME:PDT
DTSTART:20250309T100000
END:DAYLIGHT
BEGIN:STANDARD
TZOFFSETFROM:-0700
TZOFFSETTO:-0800
TZNAME:PST
DTSTART:20251102T090000
END:STANDARD
BEGIN:DAYLIGHT
TZOFFSETFROM:-0800
TZOFFSETTO:-0700
TZNAME:PDT
DTSTART:20260308T100000
END:DAYLIGHT
BEGIN:STANDARD
TZOFFSETFROM:-0700
TZOFFSETTO:-0800
TZNAME:PST
DTSTART:20261101T090000
END:STANDARD
BEGIN:DAYLIGHT
TZOFFSETFROM:-0800
TZOFFSETTO:-0700
TZNAME:PDT
DTSTART:20270314T100000
END:DAYLIGHT
BEGIN:STANDARD
TZOFFSETFROM:-0700
TZOFFSETTO:-0800
TZNAME:PST
DTSTART:20271107T090000
END:STANDARD
END:VTIMEZONE
BEGIN:VEVENT
DTSTART;TZID=America/Los_Angeles:20260225T080000
DTEND;TZID=America/Los_Angeles:20260225T170000
DTSTAMP:20260419T054556
CREATED:20260226T044911Z
LAST-MODIFIED:20260226T045335Z
UID:10000034-1772006400-1772038800@captainrollos.org
SUMMARY:Southwestern Yacht Club Bottom Feeder Fishing Tournament
DESCRIPTION:
URL:https://captainrollos.org/event/southwestern-yacht-club-bottom-feeder-fishing-tournament/
END:VEVENT
BEGIN:VEVENT
DTSTART;TZID=America/Los_Angeles:20260305T000000
DTEND;TZID=America/Los_Angeles:20260308T000000
DTSTAMP:20260419T054556
CREATED:20250209T205604Z
LAST-MODIFIED:20260108T033811Z
UID:10000031-1772668800-1772928000@captainrollos.org
SUMMARY:Pacific Coast Sportfishing Show - Orange County
DESCRIPTION:OC Fair & Event Center – March 5-8\, 2026 \n\n7 halls\, 217\,000 sq feet of Salt and Freshwater Fishing Tackle\, Boats\, Travel Destinations and Everything Outdoors at the OC Fair & Event Center! \n\n\n\n 
URL:https://captainrollos.org/event/pacific-coast-sportfishing-show/
END:VEVENT
BEGIN:VEVENT
DTSTART;TZID=America/Los_Angeles:20260319T120000
DTEND;TZID=America/Los_Angeles:20260322T170000
DTSTAMP:20260419T054556
CREATED:20260108T033657Z
LAST-MODIFIED:20260108T033657Z
UID:10000033-1773921600-1774198800@captainrollos.org
SUMMARY:Pacific Coast Sportfishing Show - Del Mar
DESCRIPTION:Del Mar Fairgrounds – March 19-22\, 2026 \n\n4 halls\, 200\,000+ sq feet of Salt and Freshwater Fishing Tackle\, Boats\, Travel Destinations and Everything Outdoors! \n\n\n\n\n\n 
URL:https://captainrollos.org/event/pacific-coast-sportfishing-show-del-mar/
END:VEVENT
BEGIN:VEVENT
DTSTART;TZID=America/Los_Angeles:20260418T163000
DTEND;TZID=America/Los_Angeles:20260418T163000
DTSTAMP:20260419T054556
CREATED:20260226T045207Z
LAST-MODIFIED:20260226T045207Z
UID:10000035-1776529800-1776529800@captainrollos.org
SUMMARY:Bottom Fishing Tournament Fish Taco Dinner
DESCRIPTION:
URL:https://captainrollos.org/event/bottom-fishing-tournament-fish-taco-dinner/
END:VEVENT
BEGIN:VEVENT
DTSTART;VALUE=DATE:20260419
DTEND;VALUE=DATE:20260420
DTSTAMP:20260419T054556
CREATED:20240219T164753Z
LAST-MODIFIED:20260108T032955Z
UID:10000027-1776556800-1776643199@captainrollos.org
SUMMARY:Grand Raffle Drawing - Live @ Day at the Docks
DESCRIPTION:Located in front of the sportfishing landings\n\nH&M Landing – 2803 Emerson St. San Diego\, CA 92106\nPoint Loma Sportfishing – 1403 Scott St\, San Diego\, CA 92106\nFisherman’s Landing – 2838 Garrison St\, San Diego\, CA 92106\n\n\nEvent Hours: 9AM – 5PM\nParking Locations:\n\nShelter Island (Shuttle available)\n5003 N. Harbor Drive (Across the street from Pizza Nova/Jimmy’s Famous)\n\n\nAdmission is free!\nAdditional information located HERE
URL:https://captainrollos.org/event/grand-raffle-drawing-live-day-at-the-docks/
END:VEVENT
END:VCALENDAR