BEGIN:VCALENDAR
VERSION:2.0
PRODID:-//Captain Rollo&#039;s - ECPv6.15.20//NONSGML v1.0//EN
CALSCALE:GREGORIAN
METHOD:PUBLISH
X-WR-CALNAME:Captain Rollo&#039;s
X-ORIGINAL-URL:https://captainrollos.org
X-WR-CALDESC:Events for Captain Rollo&#039;s
REFRESH-INTERVAL;VALUE=DURATION:PT1H
X-Robots-Tag:noindex
X-PUBLISHED-TTL:PT1H
BEGIN:VTIMEZONE
TZID:America/Los_Angeles
BEGIN:DAYLIGHT
TZOFFSETFROM:-0800
TZOFFSETTO:-0700
TZNAME:PDT
DTSTART:20220313T100000
END:DAYLIGHT
BEGIN:STANDARD
TZOFFSETFROM:-0700
TZOFFSETTO:-0800
TZNAME:PST
DTSTART:20221106T090000
END:STANDARD
BEGIN:DAYLIGHT
TZOFFSETFROM:-0800
TZOFFSETTO:-0700
TZNAME:PDT
DTSTART:20230312T100000
END:DAYLIGHT
BEGIN:STANDARD
TZOFFSETFROM:-0700
TZOFFSETTO:-0800
TZNAME:PST
DTSTART:20231105T090000
END:STANDARD
BEGIN:DAYLIGHT
TZOFFSETFROM:-0800
TZOFFSETTO:-0700
TZNAME:PDT
DTSTART:20240310T100000
END:DAYLIGHT
BEGIN:STANDARD
TZOFFSETFROM:-0700
TZOFFSETTO:-0800
TZNAME:PST
DTSTART:20241103T090000
END:STANDARD
BEGIN:DAYLIGHT
TZOFFSETFROM:-0800
TZOFFSETTO:-0700
TZNAME:PDT
DTSTART:20250309T100000
END:DAYLIGHT
BEGIN:STANDARD
TZOFFSETFROM:-0700
TZOFFSETTO:-0800
TZNAME:PST
DTSTART:20251102T090000
END:STANDARD
BEGIN:DAYLIGHT
TZOFFSETFROM:-0800
TZOFFSETTO:-0700
TZNAME:PDT
DTSTART:20260308T100000
END:DAYLIGHT
BEGIN:STANDARD
TZOFFSETFROM:-0700
TZOFFSETTO:-0800
TZNAME:PST
DTSTART:20261101T090000
END:STANDARD
END:VTIMEZONE
BEGIN:VTIMEZONE
TZID:UTC
BEGIN:STANDARD
TZOFFSETFROM:+0000
TZOFFSETTO:+0000
TZNAME:UTC
DTSTART:20220101T000000
END:STANDARD
END:VTIMEZONE
BEGIN:VEVENT
DTSTART;VALUE=DATE:20250624
DTEND;VALUE=DATE:20250626
DTSTAMP:20260419T203116
CREATED:20240226T041050Z
LAST-MODIFIED:20250209T210408Z
UID:10000029-1750723200-1750895999@captainrollos.org
SUMMARY:Tuna Wars Fishing Trip
DESCRIPTION:
URL:https://captainrollos.org/event/tuna-wars-fishing-trip/
END:VEVENT
BEGIN:VEVENT
DTSTART;TZID=America/Los_Angeles:20250622T160000
DTEND;TZID=America/Los_Angeles:20250622T190000
DTSTAMP:20260419T203116
CREATED:20240112T035255Z
LAST-MODIFIED:20250209T210327Z
UID:10000023-1750608000-1750618800@captainrollos.org
SUMMARY:Tuna Wars Captains Reception
DESCRIPTION:
URL:https://captainrollos.org/event/tuna-wars/
LOCATION:Tuna Wars X Captains Reception\, 2580 Ingraham St\,\, San Diego\, CA\, 92109\, United States
END:VEVENT
BEGIN:VEVENT
DTSTART;TZID=America/Los_Angeles:20250502T100000
DTEND;TZID=America/Los_Angeles:20250504T180000
DTSTAMP:20260419T203116
CREATED:20250209T210201Z
LAST-MODIFIED:20250209T210201Z
UID:10000032-1746180000-1746381600@captainrollos.org
SUMMARY:West Coast Outdoors & Sportfishing Expo
DESCRIPTION:Ventura County Fairgrounds\n10 W. Harbor Blvd.Ventura\, CA 93001
URL:https://captainrollos.org/event/west-coast-outdoors-sportfishing-expo/
END:VEVENT
BEGIN:VEVENT
DTSTART;TZID=America/Los_Angeles:20240428T080000
DTEND;TZID=America/Los_Angeles:20240428T170000
DTSTAMP:20260419T203116
CREATED:20240429T031930Z
LAST-MODIFIED:20240429T031930Z
UID:10000030-1714291200-1714323600@captainrollos.org
SUMMARY:Reel A Week Ticket Sales Begin
DESCRIPTION:
URL:https://captainrollos.org/event/reel-a-week-ticket-sales-begin/
END:VEVENT
BEGIN:VEVENT
DTSTART;TZID=America/Los_Angeles:20240407T090000
DTEND;TZID=America/Los_Angeles:20240407T170000
DTSTAMP:20260419T203116
CREATED:20240408T030006Z
LAST-MODIFIED:20240219T164939Z
UID:10000025-1712480400-1712509200@captainrollos.org
SUMMARY:Giant Used Tackle Sale
DESCRIPTION:Captain Rollo’s Giant Used Tackle Sale and live Grand Raffle Drawing
URL:https://captainrollos.org/event/day-at-the-docks/
LOCATION:Fisherman’s Landing\, 2838 Garrison St\, San Diego\, California
END:VEVENT
BEGIN:VEVENT
DTSTART;VALUE=DATE:20240407
DTEND;VALUE=DATE:20240408
DTSTAMP:20260419T203116
CREATED:20240226T040128Z
LAST-MODIFIED:20240226T040622Z
UID:10000028-1712448000-1712534399@captainrollos.org
SUMMARY:Giant Used Tackle Sale
DESCRIPTION:Captain Rollo’s Giant Used Tackle Sale at Day at the Docks
URL:https://captainrollos.org/event/giant-used-tackle-sale/
LOCATION:San Diego Sportfishing Landings\, Scott Street and Garrison Street\, San Diego\, CA\, 92109\, United States
END:VEVENT
BEGIN:VEVENT
DTSTART;VALUE=DATE:20240310
DTEND;VALUE=DATE:20240311
DTSTAMP:20260419T203116
CREATED:20240219T164435Z
LAST-MODIFIED:20240219T164435Z
UID:10000026-1710028800-1710115199@captainrollos.org
SUMMARY:Batson Custom Rod Drawing
DESCRIPTION:
URL:https://captainrollos.org/event/batson-custom-rod-drawing/
LOCATION:PCS Show\, Batson Booth
END:VEVENT
BEGIN:VEVENT
DTSTART;VALUE=DATE:20240307
DTEND;VALUE=DATE:20240311
DTSTAMP:20260419T203116
CREATED:20240112T035757Z
LAST-MODIFIED:20240112T041038Z
UID:10000024-1709769600-1710115199@captainrollos.org
SUMMARY:PCS Show
DESCRIPTION:The Pacific Coast Sportfishing Show
URL:https://captainrollos.org/event/pcs-show/
LOCATION:Orange County Fairgrounds\, 88 Fair Drive\, Costa Mesa\, CA\, 92626\, United States
END:VEVENT
BEGIN:VEVENT
DTSTART;VALUE=DATE:20240116
DTEND;VALUE=DATE:20240117
DTSTAMP:20260419T203116
CREATED:20230903T102509Z
LAST-MODIFIED:20230903T043517Z
UID:10000021-1705363200-1705449599@captainrollos.org
SUMMARY:Reel A Week Drawing
DESCRIPTION:Weekly Winner Announced!
URL:https://captainrollos.org/event/reel-a-week-drawing/2024-01-16/
END:VEVENT
BEGIN:VEVENT
DTSTART;VALUE=DATE:20240109
DTEND;VALUE=DATE:20240110
DTSTAMP:20260419T203116
CREATED:20230903T102509Z
LAST-MODIFIED:20230903T043517Z
UID:10000020-1704758400-1704844799@captainrollos.org
SUMMARY:Reel A Week Drawing
DESCRIPTION:Weekly Winner Announced!
URL:https://captainrollos.org/event/reel-a-week-drawing/2024-01-09/
END:VEVENT
BEGIN:VEVENT
DTSTART;VALUE=DATE:20240102
DTEND;VALUE=DATE:20240103
DTSTAMP:20260419T203116
CREATED:20230903T102509Z
LAST-MODIFIED:20230903T043517Z
UID:10000019-1704153600-1704239999@captainrollos.org
SUMMARY:Reel A Week Drawing
DESCRIPTION:Weekly Winner Announced!
URL:https://captainrollos.org/event/reel-a-week-drawing/2024-01-02/
END:VEVENT
BEGIN:VEVENT
DTSTART;VALUE=DATE:20231226
DTEND;VALUE=DATE:20231227
DTSTAMP:20260419T203116
CREATED:20230903T102509Z
LAST-MODIFIED:20230903T043517Z
UID:10000018-1703548800-1703635199@captainrollos.org
SUMMARY:Reel A Week Drawing
DESCRIPTION:Weekly Winner Announced!
URL:https://captainrollos.org/event/reel-a-week-drawing/2023-12-26/
END:VEVENT
BEGIN:VEVENT
DTSTART;VALUE=DATE:20231219
DTEND;VALUE=DATE:20231220
DTSTAMP:20260419T203116
CREATED:20230903T102509Z
LAST-MODIFIED:20230903T043517Z
UID:10000017-1702944000-1703030399@captainrollos.org
SUMMARY:Reel A Week Drawing
DESCRIPTION:Weekly Winner Announced!
URL:https://captainrollos.org/event/reel-a-week-drawing/2023-12-19/
END:VEVENT
BEGIN:VEVENT
DTSTART;VALUE=DATE:20231212
DTEND;VALUE=DATE:20231213
DTSTAMP:20260419T203116
CREATED:20230903T102509Z
LAST-MODIFIED:20230903T043517Z
UID:10000016-1702339200-1702425599@captainrollos.org
SUMMARY:Reel A Week Drawing
DESCRIPTION:Weekly Winner Announced!
URL:https://captainrollos.org/event/reel-a-week-drawing/2023-12-12/
END:VEVENT
BEGIN:VEVENT
DTSTART;VALUE=DATE:20231205
DTEND;VALUE=DATE:20231206
DTSTAMP:20260419T203116
CREATED:20230903T102509Z
LAST-MODIFIED:20230903T043517Z
UID:10000015-1701734400-1701820799@captainrollos.org
SUMMARY:Reel A Week Drawing
DESCRIPTION:Weekly Winner Announced!
URL:https://captainrollos.org/event/reel-a-week-drawing/2023-12-05/
END:VEVENT
BEGIN:VEVENT
DTSTART;VALUE=DATE:20231128
DTEND;VALUE=DATE:20231129
DTSTAMP:20260419T203116
CREATED:20230903T102509Z
LAST-MODIFIED:20230903T043517Z
UID:10000014-1701129600-1701215999@captainrollos.org
SUMMARY:Reel A Week Drawing
DESCRIPTION:Weekly Winner Announced!
URL:https://captainrollos.org/event/reel-a-week-drawing/2023-11-28/
END:VEVENT
BEGIN:VEVENT
DTSTART;VALUE=DATE:20231121
DTEND;VALUE=DATE:20231122
DTSTAMP:20260419T203116
CREATED:20230903T102509Z
LAST-MODIFIED:20230903T043517Z
UID:10000013-1700524800-1700611199@captainrollos.org
SUMMARY:Reel A Week Drawing
DESCRIPTION:Weekly Winner Announced!
URL:https://captainrollos.org/event/reel-a-week-drawing/2023-11-21/
END:VEVENT
BEGIN:VEVENT
DTSTART;VALUE=DATE:20231114
DTEND;VALUE=DATE:20231115
DTSTAMP:20260419T203117
CREATED:20230903T102509Z
LAST-MODIFIED:20230903T043517Z
UID:10000012-1699920000-1700006399@captainrollos.org
SUMMARY:Reel A Week Drawing
DESCRIPTION:Weekly Winner Announced!
URL:https://captainrollos.org/event/reel-a-week-drawing/2023-11-14/
END:VEVENT
BEGIN:VEVENT
DTSTART;VALUE=DATE:20231107
DTEND;VALUE=DATE:20231108
DTSTAMP:20260419T203117
CREATED:20230903T102509Z
LAST-MODIFIED:20230903T043517Z
UID:10000011-1699315200-1699401599@captainrollos.org
SUMMARY:Reel A Week Drawing
DESCRIPTION:Weekly Winner Announced!
URL:https://captainrollos.org/event/reel-a-week-drawing/2023-11-07/
END:VEVENT
BEGIN:VEVENT
DTSTART;TZID=America/Los_Angeles:20231104T090000
DTEND;TZID=America/Los_Angeles:20231104T150000
DTSTAMP:20260419T203117
CREATED:20240623T230027Z
LAST-MODIFIED:20240112T034810Z
UID:10000022-1699088400-1699110000@captainrollos.org
SUMMARY:Captains Reception - Dana Landing 4-7 pm
DESCRIPTION:Fishermans Landing\, San Diego\nFREE ENTRY! \nHuge tackle BLOWOUT! While you browse through the parking lot full of vendor booths we’ll also have raffles\, seminars and demonstrations throughout the day. This is our biggest sale of the year that you don’t want to miss. See you at the landing!
URL:https://captainrollos.org/event/captains-reception/
LOCATION:Fisherman’s Landing\, 2838 Garrison St\, San Diego\, California
END:VEVENT
BEGIN:VEVENT
DTSTART;VALUE=DATE:20231031
DTEND;VALUE=DATE:20231101
DTSTAMP:20260419T203117
CREATED:20230903T102509Z
LAST-MODIFIED:20230903T043517Z
UID:10000010-1698710400-1698796799@captainrollos.org
SUMMARY:Reel A Week Drawing
DESCRIPTION:Weekly Winner Announced!
URL:https://captainrollos.org/event/reel-a-week-drawing/2023-10-31/
END:VEVENT
BEGIN:VEVENT
DTSTART;VALUE=DATE:20231024
DTEND;VALUE=DATE:20231025
DTSTAMP:20260419T203117
CREATED:20230903T102509Z
LAST-MODIFIED:20230903T043517Z
UID:10000009-1698105600-1698191999@captainrollos.org
SUMMARY:Reel A Week Drawing
DESCRIPTION:Weekly Winner Announced!
URL:https://captainrollos.org/event/reel-a-week-drawing/2023-10-24/
END:VEVENT
BEGIN:VEVENT
DTSTART;VALUE=DATE:20231017
DTEND;VALUE=DATE:20231018
DTSTAMP:20260419T203117
CREATED:20230903T102509Z
LAST-MODIFIED:20230903T043517Z
UID:10000008-1697500800-1697587199@captainrollos.org
SUMMARY:Reel A Week Drawing
DESCRIPTION:Weekly Winner Announced!
URL:https://captainrollos.org/event/reel-a-week-drawing/2023-10-17/
END:VEVENT
BEGIN:VEVENT
DTSTART;VALUE=DATE:20231010
DTEND;VALUE=DATE:20231011
DTSTAMP:20260419T203117
CREATED:20230903T102509Z
LAST-MODIFIED:20230903T043517Z
UID:10000007-1696896000-1696982399@captainrollos.org
SUMMARY:Reel A Week Drawing
DESCRIPTION:Weekly Winner Announced!
URL:https://captainrollos.org/event/reel-a-week-drawing/2023-10-10/
END:VEVENT
BEGIN:VEVENT
DTSTART;VALUE=DATE:20231003
DTEND;VALUE=DATE:20231004
DTSTAMP:20260419T203117
CREATED:20230903T102509Z
LAST-MODIFIED:20230903T043517Z
UID:10000006-1696291200-1696377599@captainrollos.org
SUMMARY:Reel A Week Drawing
DESCRIPTION:Weekly Winner Announced!
URL:https://captainrollos.org/event/reel-a-week-drawing/2023-10-03/
END:VEVENT
BEGIN:VEVENT
DTSTART;VALUE=DATE:20230926
DTEND;VALUE=DATE:20230927
DTSTAMP:20260419T203117
CREATED:20230903T102509Z
LAST-MODIFIED:20230903T043517Z
UID:10000005-1695686400-1695772799@captainrollos.org
SUMMARY:Reel A Week Drawing
DESCRIPTION:Weekly Winner Announced!
URL:https://captainrollos.org/event/reel-a-week-drawing/2023-09-26/
END:VEVENT
BEGIN:VEVENT
DTSTART;VALUE=DATE:20230919
DTEND;VALUE=DATE:20230920
DTSTAMP:20260419T203117
CREATED:20230903T102509Z
LAST-MODIFIED:20230903T043517Z
UID:10000004-1695081600-1695167999@captainrollos.org
SUMMARY:Reel A Week Drawing
DESCRIPTION:Weekly Winner Announced!
URL:https://captainrollos.org/event/reel-a-week-drawing/2023-09-19/
END:VEVENT
BEGIN:VEVENT
DTSTART;VALUE=DATE:20230912
DTEND;VALUE=DATE:20230913
DTSTAMP:20260419T203117
CREATED:20230903T102509Z
LAST-MODIFIED:20230903T043517Z
UID:10000003-1694476800-1694563199@captainrollos.org
SUMMARY:Reel A Week Drawing
DESCRIPTION:Weekly Winner Announced!
URL:https://captainrollos.org/event/reel-a-week-drawing/2023-09-12/
END:VEVENT
BEGIN:VEVENT
DTSTART;VALUE=DATE:20230905
DTEND;VALUE=DATE:20230906
DTSTAMP:20260419T203117
CREATED:20230903T102509Z
LAST-MODIFIED:20230903T043517Z
UID:10000002-1693872000-1693958399@captainrollos.org
SUMMARY:Reel A Week Drawing
DESCRIPTION:Weekly Winner Announced!
URL:https://captainrollos.org/event/reel-a-week-drawing/2023-09-05/
END:VEVENT
END:VCALENDAR